BEGIN:VCALENDAR
VERSION:2.0
PRODID:-//CIESAS Noreste - ECPv6.15.20//NONSGML v1.0//EN
CALSCALE:GREGORIAN
METHOD:PUBLISH
X-WR-CALNAME:CIESAS Noreste
X-ORIGINAL-URL:https://noreste.ciesas.edu.mx
X-WR-CALDESC:Eventos para CIESAS Noreste
REFRESH-INTERVAL;VALUE=DURATION:PT1H
X-Robots-Tag:noindex
X-PUBLISHED-TTL:PT1H
BEGIN:VTIMEZONE
TZID:UTC
BEGIN:STANDARD
TZOFFSETFROM:+0000
TZOFFSETTO:+0000
TZNAME:UTC
DTSTART:20230101T000000
END:STANDARD
END:VTIMEZONE
BEGIN:VEVENT
DTSTART;TZID=UTC:20240215T180000
DTEND;TZID=UTC:20240215T200000
DTSTAMP:20260424T225048
CREATED:20240208T224234Z
LAST-MODIFIED:20240208T225236Z
UID:18498-1708020000-1708027200@noreste.ciesas.edu.mx
SUMMARY:Presentación de resultados de la investigación "Vulnerables a ser desaparecidas. Niñas y mujeres jóvenes en Nuevo León (2018-2022)"
DESCRIPTION:En este evento ser darán a conocer los resultados de la investigación “Vulnerables a ser desaparecidas. Niñas y mujeres jóvenes en Nuevo León (2018-2022)” realizada por la Dra. Séverine Durin\, Profesora-Investigadora de CIESAS Noreste\, en colaboración con la Comisión Nacional de Búsqueda. Intervendrán destacados especialistas para comentar acerca de los principales hallazgos\, y de las recomendaciones de política pública\, para la prevención del fenómeno de la desaparición en nuestro estado.\n\n\n\nTe esperamos en el Museo de Historia Mexicana\, ubicado en Dr. José Ma. Coss 445\, Centro\, Monterey. N.L.
URL:https://noreste.ciesas.edu.mx/event/presentacion-de-resultados-de-la-investigacion-vulnerables-a-ser-desaparecidas-ninas-y-mujeres-jovenes-en-nuevo-leon-2018-2022/
LOCATION:Nuevo León
ORGANIZER;CN="CIESAS Noreste":MAILTO:recepcion.noreste@ciesas.edu.mx
END:VEVENT
END:VCALENDAR