BEGIN:VCALENDAR
VERSION:2.0
PRODID:-//CIESAS Noreste - ECPv6.15.20//NONSGML v1.0//EN
CALSCALE:GREGORIAN
METHOD:PUBLISH
X-ORIGINAL-URL:https://noreste.ciesas.edu.mx
X-WR-CALDESC:Eventos para CIESAS Noreste
REFRESH-INTERVAL;VALUE=DURATION:PT1H
X-Robots-Tag:noindex
X-PUBLISHED-TTL:PT1H
BEGIN:VTIMEZONE
TZID:UTC
BEGIN:STANDARD
TZOFFSETFROM:+0000
TZOFFSETTO:+0000
TZNAME:UTC
DTSTART:20230101T000000
END:STANDARD
END:VTIMEZONE
BEGIN:VEVENT
DTSTART;TZID=UTC:20240823T100000
DTEND;TZID=UTC:20240823T130000
DTSTAMP:20260419T211921
CREATED:20240713T021933Z
LAST-MODIFIED:20240821T000901Z
UID:19022-1724407200-1724418000@noreste.ciesas.edu.mx
SUMMARY:LA FORMACIÓN EN EL EXTRANJERO Y EL DESARROLLO DE LAS CIENCIAS SOCIALES EN EL NORESTE
DESCRIPTION:Juan Sordo es investigador en el Centro de Estudios Interculturales del Noreste de la Universidad Regiomontana\, miembro del Sistema Nacional de Investigadores (nivel 1) y doctor en Estudios Humanísticos (especialidad en estudios de Ciencia y Cultura) por el Tecnológico de Monterrey presentará algunos resultados del proyecto “Profesores-investigadores formados en el extranjero. Evaluación de su impacto en el desarrollo de las Ciencias Sociales en el noreste de México”\, así como reflexiones en torno al estudio de la evolución de los campos científicos periféricos y su integración subordinada a los sistemas científicos nacional y mundial.
URL:https://noreste.ciesas.edu.mx/event/la-formacion-en-el-extranjero-y-el-desarrollo-de-las-ciencias-sociales-en-el-noreste/
LOCATION:CIESAS Noreste\, José María Morelos #822\, Barrio Antiguo\,\, Monterrey\, Nuevo León\, 64000\, México
ATTACH;FMTTYPE=image/png:https://noreste.ciesas.edu.mx/wp-content/uploads/2024/07/Prop.-Juan-S.png
ORGANIZER;CN="CIESAS Noreste":MAILTO:recepcion.noreste@ciesas.edu.mx
END:VEVENT
END:VCALENDAR